BEGIN:VCALENDAR
VERSION:2.0
PRODID:-//wp-events-plugin.com//6.5//EN
TZID:America/Los_Angeles
X-WR-TIMEZONE:America/Los_Angeles
BEGIN:VEVENT
UID:9-5617@sanfrancisco.swea.org
DTSTART;TZID=America/Los_Angeles:20240504T083000
DTEND;TZID=America/Los_Angeles:20240504T083000
DTSTAMP:20240416T203305Z
URL:https://sanfrancisco.swea.org/events/viking-run-2024-team-swea/
SUMMARY:Viking Run 2024 - Team SWEA
DESCRIPTION:Anmäl dig till TEAM SWEA\n\nScandinavian School and Cultural C
 enter anordnar återigen det årliga Viking Run i Golden Gate Park. Du kan
  välja att springa/jogga/gå 5 km eller 2 km alternativt bara köpa ett a
 ktivitetsband. Vi vill självklart ha ett stort gäng Sweor på plats\, s
 å planerar du att delta - anmäl dig till Team SWEA!\n\nOBS! Du måste g
 öra en separat anmälan + betalning till Scandinavian School för att var
 a med på Viking Run.\n\nDetta event är familjevänligt! Efter loppet kom
 mer det finnas lättare förtäring\, aktiviteter och underhållning på p
 lats.
ATTACH;FMTTYPE=image/jpeg:https://sanfrancisco.swea.org/wp-content/uploads
 /sites/9/2024/03/VikingRun2024_Logo.jpg
END:VEVENT
BEGIN:VTIMEZONE
TZID:America/Los_Angeles
X-LIC-LOCATION:America/Los_Angeles
BEGIN:DAYLIGHT
DTSTART:20240310T030000
TZOFFSETFROM:-0800
TZOFFSETTO:-0700
TZNAME:PDT
END:DAYLIGHT
END:VTIMEZONE
END:VCALENDAR