BEGIN:VCALENDAR
VERSION:2.0
PRODID:-//wp-events-plugin.com//6.5//EN
TZID:America/Los_Angeles
X-WR-TIMEZONE:America/Los_Angeles
BEGIN:VEVENT
UID:9-8964@sanfrancisco.swea.org
DTSTART;TZID=America/Los_Angeles:20250927T090000
DTEND;TZID=America/Los_Angeles:20250927T180000
DTSTAMP:20250901T115020Z
URL:https://sanfrancisco.swea.org/events/vandring-i-san-francisco/
SUMMARY:Vandring i San Francisco
DESCRIPTION:Nu är det dags för den första av två stadsvandringar denna 
 höst. Den 27:e september kommer vi att gå ungefär 25 km genom San Franc
 isco. Vi kommer att gå igenom pärlor som Visitacion Valley Greenway\, Gl
 en Canyon Park\, Sutro Tower\, Golden Gate Park\, Presidio och Lands End. 
 Under dagen kommer vi att både äta lunch och ta en fikapaus.\n\nOm du in
 te vill följa med på hela vandringen\, skriv bara hur långt du skulle v
 ilja gå och om du har ett önskemål på förmiddag eller eftermiddagspro
 menad så ser vi till att det blir av. Om du planerar att komma med barnva
 gn\, säg också till - vissa delar passar inte för det\, men det finns a
 lltid alternativa vägar.\n\nVi kommer att mötas kl.9.00 vid Lands End oc
 h sedan ta gemensam transport till startpunkten. Vi beräknas vara tillbak
 a vid bilarna vid kl.18.00.\n\nNär du väl har anmält dig kommer du få 
 mer information om exakt mötesplats och lunchbeställning.\n\nHar du någ
 ra frågor\, hör gärna av dig till Lena Axelsson på lena.axelsson@comca
 st.net.
ATTACH;FMTTYPE=image/jpeg:https://sanfrancisco.swea.org/wp-content/uploads
 /sites/9/2025/09/SWEA-Stadsvandring-Crosstown-Trail-maj-2025.jpg
END:VEVENT
BEGIN:VTIMEZONE
TZID:America/Los_Angeles
X-LIC-LOCATION:America/Los_Angeles
BEGIN:DAYLIGHT
DTSTART:20250309T030000
TZOFFSETFROM:-0800
TZOFFSETTO:-0700
TZNAME:PDT
END:DAYLIGHT
END:VTIMEZONE
END:VCALENDAR