BEGIN:VCALENDAR
VERSION:2.0
PRODID:-//wp-events-plugin.com//6.5//EN
TZID:America/Los_Angeles
X-WR-TIMEZONE:America/Los_Angeles
BEGIN:VEVENT
UID:9-8962@sanfrancisco.swea.org
DTSTART;TZID=America/Los_Angeles:20250909T180000
DTEND;TZID=America/Los_Angeles:20250909T180000
DTSTAMP:20250901T113713Z
URL:https://sanfrancisco.swea.org/events/tjejtraff-i-south-bay-3/
SUMMARY:Tjejträff i South Bay
DESCRIPTION:Välkommen på tjejträff i South Bay då vi träffas över en 
 pizza på restaurangen Doppio Zero i Campbell.\n\nPlats: Doppio Zero\, 220
  E Campbell Ave\, Campbell\n\nMeddela Maria Elfwing på tel. 4084427298 el
 ler sanfrancisco.ledamot1@swea.com senast den 7 september om du kommer!\n
 \n&nbsp\;\n\nFoto: Doppio Zero
ATTACH;FMTTYPE=image/jpeg:https://sanfrancisco.swea.org/wp-content/uploads
 /sites/9/2025/09/Tjejtraff-Doppio-Zero.png
END:VEVENT
BEGIN:VTIMEZONE
TZID:America/Los_Angeles
X-LIC-LOCATION:America/Los_Angeles
BEGIN:DAYLIGHT
DTSTART:20250309T030000
TZOFFSETFROM:-0800
TZOFFSETTO:-0700
TZNAME:PDT
END:DAYLIGHT
END:VTIMEZONE
END:VCALENDAR