BEGIN:VCALENDAR
VERSION:2.0
PRODID:-//wp-events-plugin.com//6.5//EN
TZID:America/Los_Angeles
X-WR-TIMEZONE:America/Los_Angeles
BEGIN:VEVENT
UID:9-9455@sanfrancisco.swea.org
DTSTART;TZID=America/Los_Angeles:20251118T173000
DTEND;TZID=America/Los_Angeles:20251118T173000
DTSTAMP:20251031T123500Z
URL:https://sanfrancisco.swea.org/events/tjejtraff-i-east-bay-5/
SUMMARY:Tjejträff i East Bay
DESCRIPTION:Välkommen på tjejträff hemma hos Swean Tessie Forsberg i Ros
 smoor!\n\nAdress fås vid anmälan.\n\nAnmäl dig senast 17 november till 
 Helene Zweidinger på hkallkvist@mac.com eller Tessie Forsberg på forsber
 gs63@gmail.com.
END:VEVENT
BEGIN:VTIMEZONE
TZID:America/Los_Angeles
X-LIC-LOCATION:America/Los_Angeles
BEGIN:STANDARD
DTSTART:20251102T010000
TZOFFSETFROM:-0700
TZOFFSETTO:-0800
TZNAME:PST
END:STANDARD
END:VTIMEZONE
END:VCALENDAR