BEGIN:VCALENDAR
VERSION:2.0
PRODID:-//wp-events-plugin.com//6.5//EN
TZID:America/Los_Angeles
X-WR-TIMEZONE:America/Los_Angeles
BEGIN:VEVENT
UID:9-9215@sanfrancisco.swea.org
DTSTART;TZID=America/Los_Angeles:20251022T180000
DTEND;TZID=America/Los_Angeles:20251022T180000
DTSTAMP:20251001T130729Z
URL:https://sanfrancisco.swea.org/events/tjejtraff-i-east-bay-4/
SUMMARY:Tjejträff i East Bay
DESCRIPTION:Välkommen på tjejträff på restaurangen Little Pear i Walnut
  Creek!\n\nPlats: Little Pear\, 1699 N California Blvd\, Walnut Creek\n\nA
 nmäl dig till Helene Zweidinger på hkallkvist@mac.com senast 20 oktober.
ATTACH;FMTTYPE=image/jpeg:https://sanfrancisco.swea.org/wp-content/uploads
 /sites/9/2025/09/SWEA-Tjejtraff-East-Bay-maj-2025.jpg
END:VEVENT
BEGIN:VTIMEZONE
TZID:America/Los_Angeles
X-LIC-LOCATION:America/Los_Angeles
BEGIN:DAYLIGHT
DTSTART:20250309T030000
TZOFFSETFROM:-0800
TZOFFSETTO:-0700
TZNAME:PDT
END:DAYLIGHT
END:VTIMEZONE
END:VCALENDAR