BEGIN:VCALENDAR
VERSION:2.0
PRODID:-//wp-events-plugin.com//6.5//EN
TZID:America/Los_Angeles
X-WR-TIMEZONE:America/Los_Angeles
BEGIN:VEVENT
UID:9-8963@sanfrancisco.swea.org
DTSTART;TZID=America/Los_Angeles:20250917T180000
DTEND;TZID=America/Los_Angeles:20250917T180000
DTSTAMP:20250901T114205Z
URL:https://sanfrancisco.swea.org/events/tjejtraff-i-east-bay-3/
SUMMARY:Tjejträff i East Bay
DESCRIPTION:Favorit i repris! Vi ses även i höst för tjejträffar på Li
 ttle Pear i Walnut Creek och drar igång onsdagen den 17 september.\n\nPla
 ts: Little Pear\, 1699 N California Blvd\, Walnut Creek\n\nAnmäl dig till
  Helene Zweidinger på hkallkvist@mac.com senast 15 september.
ATTACH;FMTTYPE=image/jpeg:https://sanfrancisco.swea.org/wp-content/uploads
 /sites/9/2025/09/SWEA-Tjejtraff-East-Bay-maj-2025.jpg
END:VEVENT
BEGIN:VTIMEZONE
TZID:America/Los_Angeles
X-LIC-LOCATION:America/Los_Angeles
BEGIN:DAYLIGHT
DTSTART:20250309T030000
TZOFFSETFROM:-0800
TZOFFSETTO:-0700
TZNAME:PDT
END:DAYLIGHT
END:VTIMEZONE
END:VCALENDAR