BEGIN:VCALENDAR
VERSION:2.0
PRODID:-//wp-events-plugin.com//6.5//EN
TZID:America/Los_Angeles
X-WR-TIMEZONE:America/Los_Angeles
BEGIN:VEVENT
UID:9-8499@sanfrancisco.swea.org
DTSTART;TZID=America/Los_Angeles:20250514T180000
DTEND;TZID=America/Los_Angeles:20250514T180000
DTSTAMP:20250501T164950Z
URL:https://sanfrancisco.swea.org/events/tjejtraff-i-east-bay-2/
SUMMARY:Tjejträff i East Bay
DESCRIPTION:Plats: Little Pear\, Walnut Creek\n\nAnmäl dig till Helene Zwe
 idinger\, på hkallkvist@mac.com.
END:VEVENT
BEGIN:VTIMEZONE
TZID:America/Los_Angeles
X-LIC-LOCATION:America/Los_Angeles
BEGIN:DAYLIGHT
DTSTART:20250309T030000
TZOFFSETFROM:-0800
TZOFFSETTO:-0700
TZNAME:PDT
END:DAYLIGHT
END:VTIMEZONE
END:VCALENDAR