BEGIN:VCALENDAR
VERSION:2.0
PRODID:-//wp-events-plugin.com//6.5//EN
TZID:America/Los_Angeles
X-WR-TIMEZONE:America/Los_Angeles
BEGIN:VEVENT
UID:9-9187@sanfrancisco.swea.org
DTSTART;TZID=America/Los_Angeles:20251206T090000
DTEND;TZID=America/Los_Angeles:20251206T150000
DTSTAMP:20251120T181336Z
URL:https://sanfrancisco.swea.org/events/swea-san-franciscos-julmarknad-20
 25/
SUMMARY:SWEA San Franciscos julmarknad 2025
DESCRIPTION:\n\n&nbsp\;\n\nLäs mer här!
ATTACH;FMTTYPE=image/jpeg:https://sanfrancisco.swea.org/wp-content/uploads
 /sites/9/2025/09/Julmarknad-banner-2025.jpeg
END:VEVENT
BEGIN:VTIMEZONE
TZID:America/Los_Angeles
X-LIC-LOCATION:America/Los_Angeles
BEGIN:STANDARD
DTSTART:20251102T010000
TZOFFSETFROM:-0700
TZOFFSETTO:-0800
TZNAME:PST
END:STANDARD
END:VTIMEZONE
END:VCALENDAR