BEGIN:VCALENDAR
VERSION:2.0
PRODID:-//wp-events-plugin.com//6.5//EN
TZID:America/Los_Angeles
X-WR-TIMEZONE:America/Los_Angeles
BEGIN:VEVENT
UID:9-9611@sanfrancisco.swea.org
DTSTART;TZID=America/Los_Angeles:20260222T110000
DTEND;TZID=America/Los_Angeles:20260222T143000
DTSTAMP:20260208T192146Z
URL:https://sanfrancisco.swea.org/events/swea-san-franciscos-arsmote/
SUMMARY:SWEA San Franciscos årsmöte
DESCRIPTION:Det är snart dags för SWEA San Franciscos årsmöte. Kallelse
  med detaljer och anmälningslänk har skickats till dig som medlem via ep
 ost.\n\nOBSERVERA att sista anmälningsdatum är tidigarelagt till 12 febr
 uari.\n\nFör att delta på årsmötet måste du ha betalat medlemsavgifte
 n för 2026. Det går bra att betala här.\n\nMotioner till årsmötet ska
  ha skickats till styrelsen senast 20 december 2025.\n\nPlats: Basque Cult
 ural Center\, 599 Railroad Ave\, South San Francisco\n\n&nbsp\;
ATTACH;FMTTYPE=image/jpeg:https://sanfrancisco.swea.org/wp-content/uploads
 /sites/9/2024/02/semlor-arsmote2024.jpg
END:VEVENT
BEGIN:VTIMEZONE
TZID:America/Los_Angeles
X-LIC-LOCATION:America/Los_Angeles
BEGIN:STANDARD
DTSTART:20251102T010000
TZOFFSETFROM:-0700
TZOFFSETTO:-0800
TZNAME:PST
END:STANDARD
END:VTIMEZONE
END:VCALENDAR