BEGIN:VCALENDAR
VERSION:2.0
PRODID:-//wp-events-plugin.com//6.5//EN
TZID:America/Los_Angeles
X-WR-TIMEZONE:America/Los_Angeles
BEGIN:VEVENT
UID:9-8671@sanfrancisco.swea.org
DTSTART;TZID=America/Los_Angeles:20250911T193000
DTEND;TZID=America/Los_Angeles:20250911T193000
DTSTAMP:20250626T181758Z
URL:https://sanfrancisco.swea.org/events/save-the-date-san-francisco-symph
 onys-all-san-francisco-concert/
SUMMARY:San Francisco Symphony’s All San Francisco Concert
DESCRIPTION:Ett dynamiskt konsertprogram framförs under ledning av dirigen
 t Jaap van Zweden\, San Francisco Symphony.\n\nPlats: Davies Symphony Hal
 l San Francisco\n\nKostnad: $12\nBetalning via PayPal\n\nAnmälan - som ä
 r bindande - görs per mejl till Charlotte Jurehn-Lewis (klicka på länk
 en) och är giltig först när PayPal-betalningen är genomförd.\n\nFör 
 närvarande kan vi erbjuda en biljett per SWEA-medlem. Om det finns biljet
 ter över är familjemedlemmar och vänner välkomna.\n\nVänligen ange de
 n mailadress du vill ha din biljett skickad till i ditt mail.
ATTACH;FMTTYPE=image/jpeg:https://sanfrancisco.swea.org/wp-content/uploads
 /sites/9/2025/06/SWEA-SF-Symphony_2.jpg
END:VEVENT
BEGIN:VTIMEZONE
TZID:America/Los_Angeles
X-LIC-LOCATION:America/Los_Angeles
BEGIN:DAYLIGHT
DTSTART:20250309T030000
TZOFFSETFROM:-0800
TZOFFSETTO:-0700
TZNAME:PDT
END:DAYLIGHT
END:VTIMEZONE
END:VCALENDAR