BEGIN:VCALENDAR
VERSION:2.0
PRODID:-//wp-events-plugin.com//6.5//EN
TZID:America/Los_Angeles
X-WR-TIMEZONE:America/Los_Angeles
BEGIN:VEVENT
UID:9-4510@sanfrancisco.swea.org
DTSTART;TZID=America/Los_Angeles:20231210T160000
DTEND;TZID=America/Los_Angeles:20231210T190000
DTSTAMP:20231201T183534Z
URL:https://sanfrancisco.swea.org/events/pleasant-hill-gloggparty/
SUMMARY:PLEASANT HILL GLÖGGPARTY
DESCRIPTION:Söndag 10 december kl. 16:00\nVälkommen på glöggparty i Eas
 t Bay!\n\nVi bjuder på glögg och ber er ta med annan dryck eller din fav
 oriträtt till julbordet.\n\nGod Jul!\n\nPlats: 3 Chorley Walk\, Pleasan
 t Hill\n\nKontakt &amp\; anmälan: Gunilla Lehmkuhl 925.285.3349 &amp\; 
 Erika Badal 925.818.3760
END:VEVENT
BEGIN:VTIMEZONE
TZID:America/Los_Angeles
X-LIC-LOCATION:America/Los_Angeles
BEGIN:STANDARD
DTSTART:20231105T010000
TZOFFSETFROM:-0700
TZOFFSETTO:-0800
TZNAME:PST
END:STANDARD
END:VTIMEZONE
END:VCALENDAR