BEGIN:VCALENDAR
VERSION:2.0
PRODID:-//wp-events-plugin.com//6.5//EN
TZID:America/Los_Angeles
X-WR-TIMEZONE:America/Los_Angeles
BEGIN:VEVENT
UID:9-9749@sanfrancisco.swea.org
DTSTART;TZID=America/Los_Angeles:20260603T091500
DTEND;TZID=America/Los_Angeles:20260603T111500
DTSTAMP:20251228T080934Z
URL:https://sanfrancisco.swea.org/events/onsdagshike-i-south-bay-3-2026-06
 -03/
SUMMARY:Onsdags&shy\;vandring
DESCRIPTION:Varje onsdag cirka kl. 09.15\nVi går cirka 10 km i bra tempo o
 ch i kuperad terräng någonstans i South Bay/Peninsulan. Veckans vandring
  postas i Facebookgruppen "SWEA San Francisco med vänner" varje söndagsm
 orgon. Svara gärna där om du kan komma. Har du inte Facebook så kan du 
 maila Lena för info om veckans hike samt anmäla dig. Anmäl dig senast m
 åndag kväll.\n\nKontakt &amp\; anmälan: Lena Axelsson\n\n\n\n&nbsp\;
ATTACH;FMTTYPE=image/jpeg:https://sanfrancisco.swea.org/wp-content/uploads
 /sites/9/2023/06/Onsdagsvandring-2023-Foto-Cecilia-Mases.jpg
END:VEVENT
BEGIN:VTIMEZONE
TZID:America/Los_Angeles
X-LIC-LOCATION:America/Los_Angeles
BEGIN:DAYLIGHT
DTSTART:20260308T030000
TZOFFSETFROM:-0800
TZOFFSETTO:-0700
TZNAME:PDT
END:DAYLIGHT
END:VTIMEZONE
END:VCALENDAR