BEGIN:VCALENDAR
VERSION:2.0
PRODID:-//wp-events-plugin.com//6.5//EN
TZID:America/Los_Angeles
X-WR-TIMEZONE:America/Los_Angeles
BEGIN:VEVENT
UID:9-10121@sanfrancisco.swea.org
DTSTART;TZID=America/Los_Angeles:20260226T183000
DTEND;TZID=America/Los_Angeles:20260226T183000
DTSTAMP:20260208T192440Z
URL:https://sanfrancisco.swea.org/events/norra-east-bay-bokklubb/
SUMMARY:Norra East Bay bokklubb
DESCRIPTION:Välkommen på bokklubb i norra East Bay! Vi träffas varannan 
 månad i någons hem och äter en bit mat samtidigt som vi diskuterar boke
 n/böckerna vi läst. Vi läser bara svenska författare och på svenska.\
 n\nDenna gång kommer vi att diskutera "En andra allians" av Denise Rudber
 g och "Expeditionen: Min kärlekshistoria" av Bea Uusma.\n\nPlats: TBD. Ex
 akt adress fås vid anmälan.\n\nVälkommen att komma med!\n\nAnmäl dig t
 ill Annie Danielsson: annie.k.danielsson@gmail.com
ATTACH;FMTTYPE=image/jpeg:https://sanfrancisco.swea.org/wp-content/uploads
 /sites/9/2026/02/Norra-East-Bay-bokklubb-2026.jpg
END:VEVENT
BEGIN:VTIMEZONE
TZID:America/Los_Angeles
X-LIC-LOCATION:America/Los_Angeles
BEGIN:STANDARD
DTSTART:20251102T010000
TZOFFSETFROM:-0700
TZOFFSETTO:-0800
TZNAME:PST
END:STANDARD
END:VTIMEZONE
END:VCALENDAR