BEGIN:VCALENDAR
VERSION:2.0
PRODID:-//wp-events-plugin.com//6.5//EN
TZID:America/Los_Angeles
X-WR-TIMEZONE:America/Los_Angeles
BEGIN:VEVENT
UID:9-5785@sanfrancisco.swea.org
DTSTART;TZID=America/Los_Angeles:20240427T150000
DTEND;TZID=America/Los_Angeles:20240427T150000
DTSTAMP:20240422T235117Z
URL:https://sanfrancisco.swea.org/events/no-place-like-home/
SUMMARY:No place like home?
DESCRIPTION:Svenska kyrkan med partnerorganisationer bjuder in till mingel 
 och ett seminarium med en panel som kommer att diskutera bland annat flytt
  fram och tillbaka till Sverige\, hemlängtan\, förväntningar och verkli
 ghet.\n\nKostnad: $20\n\nAnmäl dig senast 26 april till sanfrancisco@sven
 skakyrkan.se\n\nLäs mer om eventet på svenskakyrkan.se
END:VEVENT
BEGIN:VTIMEZONE
TZID:America/Los_Angeles
X-LIC-LOCATION:America/Los_Angeles
BEGIN:DAYLIGHT
DTSTART:20240310T030000
TZOFFSETFROM:-0800
TZOFFSETTO:-0700
TZNAME:PDT
END:DAYLIGHT
END:VTIMEZONE
END:VCALENDAR