BEGIN:VCALENDAR
VERSION:2.0
PRODID:-//wp-events-plugin.com//6.5//EN
TZID:America/Los_Angeles
X-WR-TIMEZONE:America/Los_Angeles
BEGIN:VEVENT
UID:9-8607@sanfrancisco.swea.org
DTSTART;TZID=America/Los_Angeles:20250606T120000
DTEND;TZID=America/Los_Angeles:20250606T120000
DTSTAMP:20250516T001356Z
URL:https://sanfrancisco.swea.org/events/nationaldagslunch-pa-francis-ford
 -coppola-winery-i-geyserville/
SUMMARY:Nationaldagslunch på Francis Ford Coppola Winery i Geyserville
DESCRIPTION:Fira Sveriges nationaldag på Francis Ford Coppola Winery i Gey
 serville i vackra Sonoma vinområde! Lunch till självkostnadspris men tre
 vligt sällskap är gratis!\n\nVi hoppas få med ett gäng från Marin och
  Sonoma. Om ni som anmäler er samtycker så kontaktar vi er alla så det 
 går att samåka. Det finns stora Swea-grupper både i San Rafael och Sant
 a Rosa.\n\nVi träffas på serveringen kl.12.00 och stannar så länge vi 
 vill!\n\nPlats: 300 Via Archimedes\, Geyserville\n\nAnmäl dig till kassö
 r Charlotte eller till Birgitta Hallström på\nSanfrancisco.treasurer@swe
 a.org eller Birgittah@comcast.net
ATTACH;FMTTYPE=image/jpeg:https://sanfrancisco.swea.org/wp-content/uploads
 /sites/9/2025/05/SWEA-svenska-flaggan.jpg
END:VEVENT
BEGIN:VTIMEZONE
TZID:America/Los_Angeles
X-LIC-LOCATION:America/Los_Angeles
BEGIN:DAYLIGHT
DTSTART:20250309T030000
TZOFFSETFROM:-0800
TZOFFSETTO:-0700
TZNAME:PDT
END:DAYLIGHT
END:VTIMEZONE
END:VCALENDAR