BEGIN:VCALENDAR
VERSION:2.0
PRODID:-//wp-events-plugin.com//6.5//EN
TZID:America/Los_Angeles
X-WR-TIMEZONE:America/Los_Angeles
BEGIN:VEVENT
UID:9-8500@sanfrancisco.swea.org
DTSTART;TZID=America/Los_Angeles:20250516T113000
DTEND;TZID=America/Los_Angeles:20250516T113000
DTSTAMP:20250501T165537Z
URL:https://sanfrancisco.swea.org/events/mamma-lunchtraff-pa-ikea-saluhall
 -sf/
SUMMARY:Mamma-/lunchträff på IKEA Saluhall SF
DESCRIPTION:Välkommen på en barnvänlig fredagslunch!\n\nVi ses längst i
 n på övervåningen på Saluhall. Du kan välja att beställa mat och dry
 ck från IKEAs restaurang eller från någon av Saluhalls restauranger. De
 t finns en stor lekhörna där barn kan springa av sig och leka.\n\nAlla 
 är välkomna - med eller utan barn! Meddela gärna om du tänker komma\, 
 men det går också bra att bara dyka upp.\n\nPlats: Saluhall SF\, 945 Mar
 ket St\, San Francisco\n\nKontakt: Pernilla Jansdotter\, pernilla.jansdott
 er@gmail.com\, 650 287 5532
ATTACH;FMTTYPE=image/jpeg:https://sanfrancisco.swea.org/wp-content/uploads
 /sites/9/2025/05/SWEA-Mammatraff-IKEA_2.jpg
END:VEVENT
BEGIN:VTIMEZONE
TZID:America/Los_Angeles
X-LIC-LOCATION:America/Los_Angeles
BEGIN:DAYLIGHT
DTSTART:20250309T030000
TZOFFSETFROM:-0800
TZOFFSETTO:-0700
TZNAME:PDT
END:DAYLIGHT
END:VTIMEZONE
END:VCALENDAR