BEGIN:VCALENDAR
VERSION:2.0
PRODID:-//wp-events-plugin.com//6.5//EN
TZID:America/Los_Angeles
X-WR-TIMEZONE:America/Los_Angeles
BEGIN:VEVENT
UID:9-9610@sanfrancisco.swea.org
DTSTART;TZID=America/Los_Angeles:20260131T120000
DTEND;TZID=America/Los_Angeles:20260131T120000
DTSTAMP:20251228T075559Z
URL:https://sanfrancisco.swea.org/events/lutfisklunch-2/
SUMMARY:Lutfisklunch
DESCRIPTION:Den efterlängtade lutfisklunchen går i år av stapeln i Ros
 smoor. Förutom den härliga lutfisken med alla de goda tillbehören bjude
 r vi på ett litet smörgåsbord och en efterrätt.\n\n\n\n\nGäster är v
 älkomna!\n\nPris: $42 per person.\nBetalas senast den 20 januari med PayP
 al eller check\, utställd till SWEA SF\,  mottagen senast den 20 januari
  och skickad till:\n\nSassa Oznowicz\n937 Douglas Court\nClayton\, CA 9451
 7\n\nInformation angående ankomst till Rossmoor\, samt vägbeskrivning e
 rhålls efter anmälan.\n\nFör mer information kontakta: Charlotte Ferre
 y chaferr@aol.com\n\n\n\n
ATTACH;FMTTYPE=image/jpeg:https://sanfrancisco.swea.org/wp-content/uploads
 /sites/9/2025/12/1280705-1.jpeg
END:VEVENT
BEGIN:VTIMEZONE
TZID:America/Los_Angeles
X-LIC-LOCATION:America/Los_Angeles
BEGIN:STANDARD
DTSTART:20251102T010000
TZOFFSETFROM:-0700
TZOFFSETTO:-0800
TZNAME:PST
END:STANDARD
END:VTIMEZONE
END:VCALENDAR