BEGIN:VCALENDAR
VERSION:2.0
PRODID:-//wp-events-plugin.com//6.5//EN
TZID:America/Los_Angeles
X-WR-TIMEZONE:America/Los_Angeles
BEGIN:VEVENT
UID:9-9383@sanfrancisco.swea.org
DTSTART;TZID=America/Los_Angeles:20251109T110000
DTEND;TZID=America/Los_Angeles:20251109T110000
DTSTAMP:20251022T155110Z
URL:https://sanfrancisco.swea.org/events/kyrkkaffe-med-swea-2/
SUMMARY:Kyrkkaffe med SWEA
DESCRIPTION:SWEA står för kyrkkaffet vid gudstjänsten i San Francisco. 
 Kontakta Birgitta Hilleberg-Durrett om du vill hjälpa till med bakverk (d
 u får ersättning för utlägg) eller servering.\n\nPlats: Norska Sjöman
 skyrkan\, 2454 Hyde Street\, San Francisco\n\nFoto: Tina Stafrén/imageban
 k.sweden.se
ATTACH;FMTTYPE=image/jpeg:https://sanfrancisco.swea.org/wp-content/uploads
 /sites/9/2025/10/tina_stafren-fika-9020.jpg
END:VEVENT
BEGIN:VTIMEZONE
TZID:America/Los_Angeles
X-LIC-LOCATION:America/Los_Angeles
BEGIN:STANDARD
DTSTART:20251102T010000
TZOFFSETFROM:-0700
TZOFFSETTO:-0800
TZNAME:PST
END:STANDARD
END:VTIMEZONE
END:VCALENDAR