BEGIN:VCALENDAR
VERSION:2.0
PRODID:-//wp-events-plugin.com//6.5//EN
TZID:America/Los_Angeles
X-WR-TIMEZONE:America/Los_Angeles
BEGIN:VEVENT
UID:9-5886@sanfrancisco.swea.org
DTSTART;TZID=America/Los_Angeles:20240608T140000
DTEND;TZID=America/Los_Angeles:20240608T160000
DTSTAMP:20240516T210430Z
URL:https://sanfrancisco.swea.org/events/konstpromenad-i-los-altos/
SUMMARY:Konstpromenad i Los Altos
DESCRIPTION:Häng med på konstvandring i vackra Los Altos\nSWEA-konstnäre
 n Cecilia Mases guidar oss genom konstrika Downtown Los Altos. Vi besöker
  två gallerier och får dessutom höra historien bakom några av stans k
 ända muralmålningar.\n\nPå Madsen Gallery\, Main Street i Los Altos\, s
 täller SWEA-konstnären Anki Gelb ut sina unika oljemålningar under somm
 aren. Detta är ett fantastiskt tillfälle att se Anki Gelbs konst i South
  Bay. Vi besöker även Gallery 9 där Cecilia själv är medlem. Där tar
  vi del av galleriets juniutställning som bjuder på konst från alla gal
 leriets medlemmar med målningar\, fotografier\, smycken och keramik. Vi a
 vslutar eftermiddagen med gemensam fika på Gallery 9.\n\nVi går i promen
 adtakt så inga vandringskängor behövs!\n\nVi möts utanför Walgreens p
 å 2nd Street\, Los Altos\, kl. 13.50. Tre timmars parkering finns på Pla
 za S.\n\nKostnad $10 inkl. fika. Anmäl dig senast tisdag 4 juni.\n\nHör 
 av dig till Anna van Rijswijk Michaud för ev. frågor +1(408) 416 1919.\n
 \nAnmäl dig här\n\nankigelb.com\ngallery9losaltos.com\n\n[caption id="at
 tachment_8884" align="alignleft" width="300"] Cecilia Mases[/caption]\n\n[
 caption id="attachment_8885" align="alignleft" width="300"] Anki Gelb[/cap
 tion]\n\n&nbsp\;
ATTACH;FMTTYPE=image/jpeg:https://sanfrancisco.swea.org/wp-content/uploads
 /sites/9/2024/05/swea-art-gelb-mases.png
END:VEVENT
BEGIN:VTIMEZONE
TZID:America/Los_Angeles
X-LIC-LOCATION:America/Los_Angeles
BEGIN:DAYLIGHT
DTSTART:20240310T030000
TZOFFSETFROM:-0800
TZOFFSETTO:-0700
TZNAME:PDT
END:DAYLIGHT
END:VTIMEZONE
END:VCALENDAR