BEGIN:VCALENDAR
VERSION:2.0
PRODID:-//wp-events-plugin.com//6.5//EN
TZID:America/Los_Angeles
X-WR-TIMEZONE:America/Los_Angeles
BEGIN:VEVENT
UID:9-9446@sanfrancisco.swea.org
DTSTART;TZID=America/Los_Angeles:20251106T183000
DTEND;TZID=America/Los_Angeles:20251106T183000
DTSTAMP:20251031T121928Z
URL:https://sanfrancisco.swea.org/events/hostinspirerat-knytkalas-i-palo-a
 lto/
SUMMARY:Höstinspirerat knytkalas i Palo Alto
DESCRIPTION:Välkommen på tjejträff i form av höstinspirerat knytkalas\,
  hemma hos Swean Johanna Sundén i Palo Alto!\n\nAdress fås vid anmälan.
 \n\nAnmäl dig senast 5 november till Anna van Rijswijk Michaud på sanfra
 ncisco.ledamot3@swea.org.\n\n&nbsp\;\n\nFoto: Lars Sjöqvist/imagebank.swe
 den.se
ATTACH;FMTTYPE=image/jpeg:https://sanfrancisco.swea.org/wp-content/uploads
 /sites/9/2025/10/lars_sjoqvist-chanterelle_pie-8644.jpg
END:VEVENT
BEGIN:VTIMEZONE
TZID:America/Los_Angeles
X-LIC-LOCATION:America/Los_Angeles
BEGIN:STANDARD
DTSTART:20251102T010000
TZOFFSETFROM:-0700
TZOFFSETTO:-0800
TZNAME:PST
END:STANDARD
END:VTIMEZONE
END:VCALENDAR