BEGIN:VCALENDAR
VERSION:2.0
PRODID:-//wp-events-plugin.com//6.5//EN
TZID:America/Los_Angeles
X-WR-TIMEZONE:America/Los_Angeles
BEGIN:VEVENT
UID:9-9449@sanfrancisco.swea.org
DTSTART;TZID=America/Los_Angeles:20251217T190000
DTEND;TZID=America/Los_Angeles:20251217T190000
DTSTAMP:20251030T075741Z
URL:https://sanfrancisco.swea.org/events/gloggmingel-i-cole-valley-san-fra
 ncisco/
SUMMARY:Glöggmingel i Cole Valley\, San Francisco
DESCRIPTION:Välkommen på glöggmingel och knytis hemma hos Anna Westfelt 
 i Cole Valley (exakt adress fås vid anmälan).\n\nAnmäl dig till Elisabe
 th Saarnak\, sanfrancisco.program@swea.org\, 650-660-4266.\n\nMeddela gär
 na vid anmälan vilket tilltugg du tar med. Välkommen!
ATTACH;FMTTYPE=image/jpeg:https://sanfrancisco.swea.org/wp-content/uploads
 /sites/9/2025/10/emelie_asplund-glogg_and_gingerbread-5594.jpg
END:VEVENT
BEGIN:VTIMEZONE
TZID:America/Los_Angeles
X-LIC-LOCATION:America/Los_Angeles
BEGIN:STANDARD
DTSTART:20251102T010000
TZOFFSETFROM:-0700
TZOFFSETTO:-0800
TZNAME:PST
END:STANDARD
END:VTIMEZONE
END:VCALENDAR