BEGIN:VCALENDAR
VERSION:2.0
PRODID:-//wp-events-plugin.com//6.5//EN
TZID:America/Los_Angeles
X-WR-TIMEZONE:America/Los_Angeles
BEGIN:VEVENT
UID:9-9450@sanfrancisco.swea.org
DTSTART;TZID=America/Los_Angeles:20251218T180000
DTEND;TZID=America/Los_Angeles:20251218T180000
DTSTAMP:20251030T080234Z
URL:https://sanfrancisco.swea.org/events/gloggfest-i-south-bay/
SUMMARY:Glöggfest i South Bay
DESCRIPTION:Vi ses hemma hos Ursula Hultqvist i Los Gatos för glöggmys! (
 Adress fås vid anmälan.)\n\nTa med något gott till julbordet och en ins
 lagen gåva värd $15 till vår White Elephant-julklappsutdelning.\n\nAnm
 äl dig senast 16 december\, begränsat antal platser.\n\nKontakt &amp\; a
 nmälan: Ursula Hultqvist: 408-387-2487\, ursula.hultqvist@gmail.com\n\nV
 älkommen!
ATTACH;FMTTYPE=image/jpeg:https://sanfrancisco.swea.org/wp-content/uploads
 /sites/9/2025/10/emelie_asplund-glogg_and_gingerbread-5594.jpg
END:VEVENT
BEGIN:VTIMEZONE
TZID:America/Los_Angeles
X-LIC-LOCATION:America/Los_Angeles
BEGIN:STANDARD
DTSTART:20251102T010000
TZOFFSETFROM:-0700
TZOFFSETTO:-0800
TZNAME:PST
END:STANDARD
END:VTIMEZONE
END:VCALENDAR