BEGIN:VCALENDAR
VERSION:2.0
PRODID:-//wp-events-plugin.com//6.5//EN
TZID:America/Los_Angeles
X-WR-TIMEZONE:America/Los_Angeles
BEGIN:VEVENT
UID:9-8320@sanfrancisco.swea.org
DTSTART;TZID=America/Los_Angeles:20250426T120000
DTEND;TZID=America/Los_Angeles:20250426T120000
DTSTAMP:20250402T185744Z
URL:https://sanfrancisco.swea.org/events/fira-pask-med-swea-san-francisco-
 pasklunch-i-sonoma/
SUMMARY:Fira påsk med SWEA San Francisco - Påsklunch i Sonoma
DESCRIPTION:Hjärtligt välkommen till traditionell PÅSKBUFFÉ!\n\nPlats:
  Vackra och historiska Temelec Hall\, 220 Temelec Circle\, Sonoma.\n\nBeg
 ränsat antal platser\, så först till kvarn. Gäster är välkomna i m
 ån av plats.\n\nPris: $35 per person. Betalas med check till SWEA San 
 Francisco.\n\nAnmälan är bindande och skickas senast den 20 april till
  sanfrancisco.treasurer@swea.org.\n\nCheck lämnas i dörren eller skickas
  till:\nCharlotte Jurehn-Lewis\n41003 River Road\nCloverdale\, CA 95425
ATTACH;FMTTYPE=image/jpeg:https://sanfrancisco.swea.org/wp-content/uploads
 /sites/9/2025/04/SWEA-pasklunch_b.jpg
END:VEVENT
BEGIN:VTIMEZONE
TZID:America/Los_Angeles
X-LIC-LOCATION:America/Los_Angeles
BEGIN:DAYLIGHT
DTSTART:20250309T030000
TZOFFSETFROM:-0800
TZOFFSETTO:-0700
TZNAME:PDT
END:DAYLIGHT
END:VTIMEZONE
END:VCALENDAR