BEGIN:VCALENDAR
VERSION:2.0
PRODID:-//wp-events-plugin.com//6.5//EN
TZID:America/Los_Angeles
X-WR-TIMEZONE:America/Los_Angeles
BEGIN:VEVENT
UID:9-8319@sanfrancisco.swea.org
DTSTART;TZID=America/Los_Angeles:20250419T150000
DTEND;TZID=America/Los_Angeles:20250419T150000
DTSTAMP:20250402T184622Z
URL:https://sanfrancisco.swea.org/events/fira-pask-med-swea-san-francisco-
 paskgudstjanst-samt-paskpyssel/
SUMMARY:Fira påsk med SWEA San Francisco - Påskgudstjänst samt påskpyss
 el
DESCRIPTION:SWEA arrangerar påskpyssel och äggjakt i samband med Svenska 
 kyrkans gudstjänst i Los Altos.\n\nPlats: Los Altos Lutheran Church\, 460
  El Monte Ave\, Los Altos\n\nKontaktperson: Maria Elfwing\, sanfrancisco.l
 edamot1@swea.org
ATTACH;FMTTYPE=image/jpeg:https://sanfrancisco.swea.org/wp-content/uploads
 /sites/9/2023/02/2022-04-14-18_edited.jpg
END:VEVENT
BEGIN:VTIMEZONE
TZID:America/Los_Angeles
X-LIC-LOCATION:America/Los_Angeles
BEGIN:DAYLIGHT
DTSTART:20250309T030000
TZOFFSETFROM:-0800
TZOFFSETTO:-0700
TZNAME:PDT
END:DAYLIGHT
END:VTIMEZONE
END:VCALENDAR