BEGIN:VCALENDAR
VERSION:2.0
PRODID:-//wp-events-plugin.com//6.5//EN
TZID:America/Los_Angeles
X-WR-TIMEZONE:America/Los_Angeles
BEGIN:VEVENT
UID:9-5870@sanfrancisco.swea.org
DTSTART;TZID=America/Los_Angeles:20240601T113000
DTEND;TZID=America/Los_Angeles:20240601T113000
DTSTAMP:20240521T025227Z
URL:https://sanfrancisco.swea.org/events/fira-nationaldagen-pa-angel-islan
 d/
SUMMARY:Fira nationaldagen på Angel Island
DESCRIPTION:Välkomna på nationaldagsfirande för hela familjen! \n\nKost
 nad: $5/person\, gratis för barn under 5 år\n\nHur: Hela familjen är v
 älkommen. Medtag egen lunch.\n\nAnmäl dig via formuläret senast 29 maj.
  \n\nVi firar den svenska nationaldagen tillsammans med en utflykt till A
 ngel Island. Det bjuds på svenskt fika\, lekar och möjlighet till att up
 ptäcka ön genom vandring/promenad eller "tram tour" för den som vill. D
 etta event är endast för SWEA-medlemmar med familj.\n\nVi möts vid fär
 jeterminalen på Angel Island lördag den 1 juni kl. 11.30. Färja går f
 rån San Francisco kl. 10.15\, från Tiburon kl. 10.00 och kl.11.00 och du
  ansvarar själv för att köpa biljett till färjan.
ATTACH;FMTTYPE=image/jpeg:https://sanfrancisco.swea.org/wp-content/uploads
 /sites/9/2024/04/SWEA_StiliseradFlagga.png
END:VEVENT
BEGIN:VTIMEZONE
TZID:America/Los_Angeles
X-LIC-LOCATION:America/Los_Angeles
BEGIN:DAYLIGHT
DTSTART:20240310T030000
TZOFFSETFROM:-0800
TZOFFSETTO:-0700
TZNAME:PDT
END:DAYLIGHT
END:VTIMEZONE
END:VCALENDAR