BEGIN:VCALENDAR
VERSION:2.0
PRODID:-//wp-events-plugin.com//6.5//EN
TZID:America/Los_Angeles
X-WR-TIMEZONE:America/Los_Angeles
BEGIN:VEVENT
UID:9-9761@sanfrancisco.swea.org
DTSTART;TZID=America/Los_Angeles:20260114T113000
DTEND;TZID=America/Los_Angeles:20260114T133000
DTSTAMP:20251228T081631Z
URL:https://sanfrancisco.swea.org/events/fikatraff-pa-de-young-museum-2026
 -01-14/
SUMMARY:Fikaträff på de Young Museum
DESCRIPTION:Andra onsdagen varje månad kl. 11.30\nVi träffas i cafeterian
  på de Young för en trivsam stund tillsammans. Ingen föranmälan behöv
 s. Det är gratis inträde till cafeterian. Välkommen!\n\nAdress: 50 Hagi
 wara Tea Garden Dr\, San Francisco.\nKontakt: Inger Vida\n\n\n\n&nbsp\;
ATTACH;FMTTYPE=image/jpeg:https://sanfrancisco.swea.org/wp-content/uploads
 /sites/9/2022/12/001_deYoung_BTA_Sexton_6.3.19.jpg
END:VEVENT
BEGIN:VTIMEZONE
TZID:America/Los_Angeles
X-LIC-LOCATION:America/Los_Angeles
BEGIN:STANDARD
DTSTART:20251102T010000
TZOFFSETFROM:-0700
TZOFFSETTO:-0800
TZNAME:PST
END:STANDARD
END:VTIMEZONE
END:VCALENDAR