BEGIN:VCALENDAR
VERSION:2.0
PRODID:-//wp-events-plugin.com//6.5//EN
TZID:America/Los_Angeles
X-WR-TIMEZONE:America/Los_Angeles
BEGIN:VEVENT
UID:9-9753@sanfrancisco.swea.org
DTSTART;TZID=America/Los_Angeles:20260401T110000
DTEND;TZID=America/Los_Angeles:20260401T130000
DTSTAMP:20251228T081120Z
URL:https://sanfrancisco.swea.org/events/fika-lunchtraff-pa-ikea-2-2026-04
 -01/
SUMMARY:Fika- &amp\; lunchträffar på IKEA
DESCRIPTION:Vi ses första onsdagen varje månad\nDu behöver inte anmäla 
 dig i förväg\, det är bara att dyka upp – välkommen!\n\n11-kaffe på
  IKEA kl. 11.00\nPlats: Cafeterian på IKEA Emeryville\nKontakt: Anita B
 enson\n\nLunchträff på IKEA kl. 12.00\nPlats: Caféterian på IKEA East
  Palo Alto\nKontakt: Birgitta Leh\n\n\n\n&nbsp\;
ATTACH;FMTTYPE=image/jpeg:https://sanfrancisco.swea.org/wp-content/uploads
 /sites/9/2023/05/IKEA-Emeryville-april-2023-Foto-Charlotte-Ferrey-2.jpg
END:VEVENT
BEGIN:VTIMEZONE
TZID:America/Los_Angeles
X-LIC-LOCATION:America/Los_Angeles
BEGIN:DAYLIGHT
DTSTART:20260308T030000
TZOFFSETFROM:-0800
TZOFFSETTO:-0700
TZNAME:PDT
END:DAYLIGHT
END:VTIMEZONE
END:VCALENDAR