BEGIN:VCALENDAR
VERSION:2.0
PRODID:-//wp-events-plugin.com//6.5//EN
TZID:America/Los_Angeles
X-WR-TIMEZONE:America/Los_Angeles
BEGIN:VEVENT
UID:9-10241@sanfrancisco.swea.org
DTSTART;TZID=America/Los_Angeles:20260302T130000
DTEND;TZID=America/Los_Angeles:20260302T130000
DTSTAMP:20260301T193801Z
URL:https://sanfrancisco.swea.org/events/east-bay-bokklubb-2/
SUMMARY:East Bay bokklubb
DESCRIPTION:Bokklubben som varit med ett tag och som har ambulerande biblio
 tek. Vi är ett härligt gäng Sweor som möts regelbundet och diskuterar 
 böcker och aktuella ämnen medan vi fikar eller äter soppa.\n\nDenna gå
 ng träffas vi hos Swean Karin Gregory. Det kommer att serveras småtugg\,
  vin\, vatten\, kaffe och kaka.\n\nPlats: Walnut Creek. Exakt adress fås 
 vid anmälan.\n\nKontakt och anmälan: Carin Bergman Hayashida\, carin75@h
 otmail.com
ATTACH;FMTTYPE=image/jpeg:https://sanfrancisco.swea.org/wp-content/uploads
 /sites/9/2026/03/East-Bay-bokklubb-februari-2026.jpg
END:VEVENT
BEGIN:VTIMEZONE
TZID:America/Los_Angeles
X-LIC-LOCATION:America/Los_Angeles
BEGIN:STANDARD
DTSTART:20251102T010000
TZOFFSETFROM:-0700
TZOFFSETTO:-0800
TZNAME:PST
END:STANDARD
END:VTIMEZONE
END:VCALENDAR