BEGIN:VCALENDAR
VERSION:2.0
PRODID:-//wp-events-plugin.com//6.5//EN
TZID:America/Los_Angeles
X-WR-TIMEZONE:America/Los_Angeles
BEGIN:VEVENT
UID:9-7817@sanfrancisco.swea.org
DTSTART;TZID=America/Los_Angeles:20250220T123000
DTEND;TZID=America/Los_Angeles:20250220T123000
DTSTAMP:20250204T221110Z
URL:https://sanfrancisco.swea.org/events/east-bay-bio-somliga-gar-med-tras
 iga-skor/
SUMMARY:East Bay-bio: Somliga går med trasiga skor
DESCRIPTION:Plats: Hillside Club House\, 3400 Golden\, Rain Road\, Rossmo
 or\, Walnut Creek\n\nVi kommer att bjuda på varmkorv med bröd\, hemgjor
 t potatismos och gourmetsallad\, samt vatten\, lättöl\, kaffe och kaka.\
 n\nEftersom det i den här lokalen inte finns tallrikar\, bestick\, glas o
 ch kaffekoppar\, ber vi var och en ta med sig egna (helst inte av papper e
 ller plast).\n\nAnmäl dig till Carin75@hotmail.com senast den 16 februa
 ri. Gäster är alltid välkomna!\n\nKostnad $19 kan betalas via PayPal
  eller via check (utskriven på SWEA San Francisco) till: Charlotte Jur
 ehn-Lewis\, 41003 River Rd\, Cloverdale\, CA 95425\n\nVälkommen!\n\nVägb
 eskrivning: Efter att du passerat vakten in till Rossmoor (säg "Swedish 
 Movie" till vakten)\, sväng första höger in på Golden Rain Road. Forts
 ätt rakt fram till 3400 som ligger på vänster sida. Där ser du blå/gu
 la ballonger. Följ resten av ballongerna fram till Hillside Club House.\n
 \nCornelis Vreeswijk är en av Sveriges mest älskade och respekterade mu
 siker. Han har lämnat ett stort avtryck i den svenska musikhistorien med 
 sina poetiska och engagerade sånger. I den nya dokumentären om honom få
 r vi följa hans spännande och dramatiska liv från barndomen i Holland t
 ill hans sista dagar i Sverige. Vi får se hur han utvecklade sin musikali
 ska stil\, hur han påverkade sin samtid och hur han kämpade med sina per
 sonliga problem. Dokumentären är välgjord och intressant och ger oss et
 t rikt arkivmaterial som visar Cornelis i olika situationer och platser. D
 en innehåller också nya intervjuer med människor som stod honom nära\,
  som hans familjemedlemmar\, vänner och kollegor. De ger oss en personlig
  och nyanserad bild av Cornelis som både artist och människa.
ATTACH;FMTTYPE=image/jpeg:https://sanfrancisco.swea.org/wp-content/uploads
 /sites/9/2024/12/eastbay-bio-2024.jpg
END:VEVENT
BEGIN:VTIMEZONE
TZID:America/Los_Angeles
X-LIC-LOCATION:America/Los_Angeles
BEGIN:STANDARD
DTSTART:20241103T010000
TZOFFSETFROM:-0700
TZOFFSETTO:-0800
TZNAME:PST
END:STANDARD
END:VTIMEZONE
END:VCALENDAR