BEGIN:VCALENDAR
VERSION:2.0
PRODID:-//wp-events-plugin.com//6.5//EN
TZID:America/Los_Angeles
X-WR-TIMEZONE:America/Los_Angeles
BEGIN:VEVENT
UID:9-10118@sanfrancisco.swea.org
DTSTART;TZID=America/Los_Angeles:20260212T123000
DTEND;TZID=America/Los_Angeles:20260212T123000
DTSTAMP:20260208T190844Z
URL:https://sanfrancisco.swea.org/events/east-bay-bio-en-dag-kommer-allt-d
 et-har-bli-ditt/
SUMMARY:East Bay-bio: En dag kommer allt det här bli ditt
DESCRIPTION:"En dag kommer allt det här bli ditt" är en berättelse om fa
 milj och ett arv som ingen vill ha. Den framgångsrika serietecknaren Lisa
  och hennes syskon samlas på föräldrarnas gård för första gången p
 å över tio år. Föräldrarna vill att endast en av dem ska ärva skogen
 \, som varit i familjen i generationer. Men är någon av dem villig att f
 lytta hem igen?\n\nDramakomedi med Emil Almén\, Filip Berg\, Liv Mjönes\
 , Peter Haber\, Suzanne Reuter\, Kristoffer Berglund\, Karin Franz Körlof
 \, Arvin Kananian\, Lena Cederlund\, Liliana Fonda.\n\nBion är 1 tim 40 m
 in lång.\n\nVi kommer att bjuda på varmkorv med bröd\, hemgjort potatis
 mos och gourmetsallad\, samt vatten\, lättöl\, kaffe och kaka.\n\nEfters
 om det i den här lokalen inte finns tallrikar\, bestick\, glas och kaffek
 oppar\, ber vi var och en ta med sig egna (helst inte av papper eller plas
 t).\n\nAnmäl dig till Carin75@hotmail.com senast 8 februari. Gäster är 
 alltid välkomna!\n\nKostnaden $20 kan betalas vid dörren\, via PayPal el
 ler check (utskriven på SWEA San Francisco) till: Sassa Oznowicz\, 937 Do
 uglas Ct\, Clayton 94517.\n\nPlats: Hillside Club House\, 3400 Golden\, Ra
 in Road\, Rossmoor\, Walnut Creek\n\nVägbeskrivning: Efter att du passera
 t vakten in till Rossmoor (säg "Swedish Movie" till vakten)\, sväng för
 sta höger in på Golden Rain Road. Fortsätt rakt fram till 3400 som ligg
 er på vänster sida. Där ser du blå/gula ballonger. Följ resten av bal
 longerna fram till Hillside Club House.\n\nVälkommen!
ATTACH;FMTTYPE=image/jpeg:https://sanfrancisco.swea.org/wp-content/uploads
 /sites/9/2026/02/East-Bay-bio-En-dag-kommer-allt-det-har-bli-ditt.jpg
END:VEVENT
BEGIN:VTIMEZONE
TZID:America/Los_Angeles
X-LIC-LOCATION:America/Los_Angeles
BEGIN:STANDARD
DTSTART:20251102T010000
TZOFFSETFROM:-0700
TZOFFSETTO:-0800
TZNAME:PST
END:STANDARD
END:VTIMEZONE
END:VCALENDAR