BEGIN:VCALENDAR
VERSION:2.0
PRODID:-//wp-events-plugin.com//6.5//EN
TZID:America/Los_Angeles
X-WR-TIMEZONE:America/Los_Angeles
BEGIN:VEVENT
UID:9-10245@sanfrancisco.swea.org
DTSTART;TZID=America/Los_Angeles:20260315T113000
DTEND;TZID=America/Los_Angeles:20260315T113000
DTSTAMP:20260301T202331Z
URL:https://sanfrancisco.swea.org/events/east-bay-bio-den-tatuerade-ankan/
SUMMARY:East Bay-bio: Den tatuerade änkan
DESCRIPTION:Lars Molins film är en komedi om det något försenade tonårs
 upproret.\n\nBerättelsen handlar om Ester - en kvinna i övre medelålder
 n med vanan att skämma bort såväl sin bufflige man som barn och barnbar
 n. Mitt i julfirandet dör Esters faster. Det blir början till uppbrott o
 ch ett nytt liv för Ester.\n\nManus och regi: Lars Molin. I rollerna: Mon
 a Malm\, Gösta Bredefeldt\, Göran Forsmark\, Pia Johansson\, Maria Kulle
 \, Per Graffman\, Erland Josephson\, Sven Wollter\, Ingvar Hirdwall\, Jan 
 Malmsjö m.fl.\n\nVi kommer att bjuda på varmkorv med bröd\, hemgjort po
 tatismos och gourmetsallad\, samt vatten\, lättöl\, kaffe och kaka.\n\nE
 ftersom det i den här lokalen inte finns tallrikar\, bestick\, glas och k
 affekoppar\, ber vi var och en ta med sig egna (helst inte av papper eller
  plast).\n\nAnmäl dig till Carin75@hotmail.com senast 11 mars. Gäster ä
 r alltid välkomna!\n\nKostnaden $20 kan betalas vid dörren\, via PayPal 
 eller check (utskriven på SWEA San Francisco) till: Sassa Oznowicz\, 937 
 Douglas Ct\, Clayton 94517.\n\nVälkommen!\n\nPlats: Hillside Club House\,
  3400 Golden\, Rain Road\, Rossmoor\, Walnut Creek\n\nVägbeskrivning: Eft
 er att du passerat vakten in till Rossmoor (säg "Swedish Movie" till vakt
 en)\, sväng första höger in på Golden Rain Road. Fortsätt rakt fram t
 ill 3400 som ligger på vänster sida. Där ser du blå/gula ballonger. F
 ölj resten av ballongerna fram till Hillside Club House.
ATTACH;FMTTYPE=image/jpeg:https://sanfrancisco.swea.org/wp-content/uploads
 /sites/9/2026/03/East-Bay-bio-Den-tatuerade-ankan.jpg
END:VEVENT
BEGIN:VTIMEZONE
TZID:America/Los_Angeles
X-LIC-LOCATION:America/Los_Angeles
BEGIN:DAYLIGHT
DTSTART:20260308T030000
TZOFFSETFROM:-0800
TZOFFSETTO:-0700
TZNAME:PDT
END:DAYLIGHT
END:VTIMEZONE
END:VCALENDAR