BEGIN:VCALENDAR
VERSION:2.0
PRODID:-//wp-events-plugin.com//6.5//EN
TZID:America/Los_Angeles
X-WR-TIMEZONE:America/Los_Angeles
BEGIN:VEVENT
UID:9-9609@sanfrancisco.swea.org
DTSTART;TZID=America/Los_Angeles:20260116T123000
DTEND;TZID=America/Los_Angeles:20260116T123000
DTSTAMP:20251228T080522Z
URL:https://sanfrancisco.swea.org/events/east-bay-bio-dag-for-dag/
SUMMARY:East Bay-bio: Dag för dag
DESCRIPTION:Välkommen på bio i East Bay där vi kommer att visa filmen Da
 g för dag!\n\nVi kommer att bjuda på varmkorv med bröd\, hemgjort potat
 ismos och gourmetsallad\, samt vatten\, lättöl\, kaffe och kaka.\n\nEfte
 rsom det i den här lokalen inte finns tallrikar\, bestick\, glas och kaff
 ekoppar\, ber vi var och en ta med sig egna (helst inte av papper eller pl
 ast).\n\nAnmäl dig till Carin75@hotmail.com senast 13 januari. Gäster 
 är alltid välkomna!\n\nKostnaden $20 kan betalas vid dörren\, via PayPa
 l eller check (utskriven på SWEA San Francisco) till: Sassa Oznowicz\, 9
 37 Douglas Ct\, Clayton 94597.\n\nPlats: Hillside Club House\, 3400 Golden
  Rain Road\, Rossmoor\, Walnut Creek\n\nVägbeskrivning: Efter att du pass
 erat vakten in till Rossmoor (säg "Swedish Movie" till vakten)\, sväng f
 örsta höger in på Golden Rain Road. Fortsätt rakt fram till 3400 som l
 igger på vänster sida. Där ser du blå/gula ballonger. Följ resten av 
 ballongerna fram till Hillside Club House.
ATTACH;FMTTYPE=image/jpeg:https://sanfrancisco.swea.org/wp-content/uploads
 /sites/9/2025/12/East-bay-bio-Dag-for-dag.jpg
END:VEVENT
BEGIN:VTIMEZONE
TZID:America/Los_Angeles
X-LIC-LOCATION:America/Los_Angeles
BEGIN:STANDARD
DTSTART:20251102T010000
TZOFFSETFROM:-0700
TZOFFSETTO:-0800
TZNAME:PST
END:STANDARD
END:VTIMEZONE
END:VCALENDAR