BEGIN:VCALENDAR
VERSION:2.0
PRODID:-//wp-events-plugin.com//6.5//EN
TZID:America/Los_Angeles
X-WR-TIMEZONE:America/Los_Angeles
BEGIN:VEVENT
UID:9-9757@sanfrancisco.swea.org
DTSTART;TZID=America/Los_Angeles:20260305T113000
DTEND;TZID=America/Los_Angeles:20260305T130000
DTSTAMP:20251228T081316Z
URL:https://sanfrancisco.swea.org/events/bokklubb-san-francisco-2-2026-03-
 05/
SUMMARY:Bokklubb San Francisco
DESCRIPTION:Första torsdagen varje månad kl. 11.30\nVänligen anmäl om d
 u kommer. Vi tar gärna emot nya medlemmar!\n\nPlats: SWEA-biblioteket\, S
 wedish American Hall\, 2174 Market Street\, San Francisco.\n\nKontakt &amp
 \; anmälan: Barbro Haves\n\n\n\n&nbsp\;
ATTACH;FMTTYPE=image/jpeg:https://sanfrancisco.swea.org/wp-content/uploads
 /sites/9/2022/10/20240307_134739-1.jpg
END:VEVENT
BEGIN:VTIMEZONE
TZID:America/Los_Angeles
X-LIC-LOCATION:America/Los_Angeles
BEGIN:STANDARD
DTSTART:20251102T010000
TZOFFSETFROM:-0700
TZOFFSETTO:-0800
TZNAME:PST
END:STANDARD
END:VTIMEZONE
END:VCALENDAR