BEGIN:VCALENDAR
VERSION:2.0
PRODID:-//wp-events-plugin.com//6.5//EN
TZID:America/Los_Angeles
X-WR-TIMEZONE:America/Los_Angeles
BEGIN:VEVENT
UID:9-5868@sanfrancisco.swea.org
DTSTART;TZID=America/Los_Angeles:20240523T110000
DTEND;TZID=America/Los_Angeles:20240523T110000
DTSTAMP:20240521T030551Z
URL:https://sanfrancisco.swea.org/events/besok-pa-de-young-museum-med-barb
 ro-osher/
SUMMARY:Besök på de Young Museum med Barbro Osher
DESCRIPTION:FULLBOKAT\nVi besöker utställningen American Beauty: The Oshe
 r collection of American Art på de Young Museum i San Francisco. Vi får 
 äran\, att tillsammans med Barbro Osher\, bese ett 60-tal konstverk\, som
  Barbro och Bernard Osher så generöst lovat att donera till museet. Läs
  mer om utställningen här.\n\nUtställningen ingår i inträdespriset $2
 0. Inträde för museimedlemmar är gratis och inkluderar en gäst.\n\nAnm
 älan\, som är bindande\, skickas till Charlotte Ferrey\, sanfrancisco.pr
 ogram@swea.org senast 20 maj.\n\nEventet har ett begränsat antal platser 
 och är endast för SWEA-medlemmar.
END:VEVENT
BEGIN:VTIMEZONE
TZID:America/Los_Angeles
X-LIC-LOCATION:America/Los_Angeles
BEGIN:DAYLIGHT
DTSTART:20240310T030000
TZOFFSETFROM:-0800
TZOFFSETTO:-0700
TZNAME:PDT
END:DAYLIGHT
END:VTIMEZONE
END:VCALENDAR