BEGIN:VCALENDAR
VERSION:2.0
PRODID:-//wp-events-plugin.com//6.5//EN
TZID:America/Los_Angeles
X-WR-TIMEZONE:America/Los_Angeles
BEGIN:VEVENT
UID:9-10242@sanfrancisco.swea.org
DTSTART;TZID=America/Los_Angeles:20260306T100000
DTEND;TZID=America/Los_Angeles:20260306T100000
DTSTAMP:20260301T194929Z
URL:https://sanfrancisco.swea.org/events/besok-och-lunch-pa-filoli-mansion
 -and-gardens/
SUMMARY:Besök och lunch på Filoli Mansion and Gardens
DESCRIPTION:Följ med Helene Karlsson och Janna Land till Filoli-trädgård
 en! Vi äter lunch i Filolis restaurang efter att vi njutit av tusentals v
 årblommor.\n\nAlla köper sina egna biljetter vid biljettluckan eller på
  deras hemsida: https://filoli.org/\n\nVi träffas där grinden till ingå
 ngen och biljettluckan är.\n\nPlats: 86 Cañada Road\, Woodside\n\nKontak
 tperson: KHKarlsson@gmail.com
ATTACH;FMTTYPE=image/jpeg:https://sanfrancisco.swea.org/wp-content/uploads
 /sites/9/2026/03/Filoli.jpg
END:VEVENT
BEGIN:VTIMEZONE
TZID:America/Los_Angeles
X-LIC-LOCATION:America/Los_Angeles
BEGIN:STANDARD
DTSTART:20251102T010000
TZOFFSETFROM:-0700
TZOFFSETTO:-0800
TZNAME:PST
END:STANDARD
END:VTIMEZONE
END:VCALENDAR