BEGIN:VCALENDAR
VERSION:2.0
PRODID:-//wp-events-plugin.com//6.5//EN
TZID:America/Los_Angeles
X-WR-TIMEZONE:America/Los_Angeles
BEGIN:VEVENT
UID:9-7062@sanfrancisco.swea.org
DTSTART;TZID=America/Los_Angeles:20250222T110000
DTEND;TZID=America/Los_Angeles:20250222T143000
DTSTAMP:20241230T050603Z
URL:https://sanfrancisco.swea.org/events/arsmote-save-the-date/
SUMMARY:Årsmöte - Save the date 22 feb
DESCRIPTION:Mer information kommer
ATTACH;FMTTYPE=image/jpeg:https://sanfrancisco.swea.org/wp-content/uploads
 /sites/9/2024/02/birgitta-arsmote2024.jpg
END:VEVENT
BEGIN:VTIMEZONE
TZID:America/Los_Angeles
X-LIC-LOCATION:America/Los_Angeles
BEGIN:STANDARD
DTSTART:20241103T010000
TZOFFSETFROM:-0700
TZOFFSETTO:-0800
TZNAME:PST
END:STANDARD
END:VTIMEZONE
END:VCALENDAR