BEGIN:VCALENDAR
VERSION:2.0
PRODID:-//wp-events-plugin.com//6.5//EN
TZID:America/Los_Angeles
X-WR-TIMEZONE:America/Los_Angeles
BEGIN:VEVENT
UID:9-10140@sanfrancisco.swea.org
DTSTART;TZID=America/Los_Angeles:20260301T150000
DTEND;TZID=America/Los_Angeles:20260301T170000
DTSTAMP:20260215T144810Z
URL:https://sanfrancisco.swea.org/events/abba-concert-experience/
SUMMARY:ABBA Concert Experience
DESCRIPTION:West Coast Performing Arts Concerts presenterar The ABBA Concer
 t Experience där vi får höra ABBAs greatest hits.\n\nFör mer informati
 on och biljetter (från $60): https://www.lesherartscenter.org/Home/Compon
 ents/Calendar/Event/19662/3094?npage=2\n\nPlats: Lesher Center for the Art
 s\n1601 Civic Drive\, Walnut Creek\n\nIngen föranmälan.\n\nHör av dig t
 ill Annie Danielsson om du vill veta vilka sittplatser andra anmälda Sweo
 r har.
ATTACH;FMTTYPE=image/jpeg:https://sanfrancisco.swea.org/wp-content/uploads
 /sites/9/2026/02/ABBA-Concert-Experience.jpg
END:VEVENT
BEGIN:VTIMEZONE
TZID:America/Los_Angeles
X-LIC-LOCATION:America/Los_Angeles
BEGIN:STANDARD
DTSTART:20251102T010000
TZOFFSETFROM:-0700
TZOFFSETTO:-0800
TZNAME:PST
END:STANDARD
END:VTIMEZONE
END:VCALENDAR